BEGIN:VCALENDAR
VERSION:2.0
PRODID:-//Main Street Wauchula - ECPv6.15.20//NONSGML v1.0//EN
CALSCALE:GREGORIAN
METHOD:PUBLISH
X-WR-CALNAME:Main Street Wauchula
X-ORIGINAL-URL:https://mainstreetwauchula.com
X-WR-CALDESC:Events for Main Street Wauchula
REFRESH-INTERVAL;VALUE=DURATION:PT1H
X-Robots-Tag:noindex
X-PUBLISHED-TTL:PT1H
BEGIN:VTIMEZONE
TZID:America/New_York
BEGIN:DAYLIGHT
TZOFFSETFROM:-0500
TZOFFSETTO:-0400
TZNAME:EDT
DTSTART:20250309T070000
END:DAYLIGHT
BEGIN:STANDARD
TZOFFSETFROM:-0400
TZOFFSETTO:-0500
TZNAME:EST
DTSTART:20251102T060000
END:STANDARD
BEGIN:DAYLIGHT
TZOFFSETFROM:-0500
TZOFFSETTO:-0400
TZNAME:EDT
DTSTART:20260308T070000
END:DAYLIGHT
BEGIN:STANDARD
TZOFFSETFROM:-0400
TZOFFSETTO:-0500
TZNAME:EST
DTSTART:20261101T060000
END:STANDARD
BEGIN:DAYLIGHT
TZOFFSETFROM:-0500
TZOFFSETTO:-0400
TZNAME:EDT
DTSTART:20270314T070000
END:DAYLIGHT
BEGIN:STANDARD
TZOFFSETFROM:-0400
TZOFFSETTO:-0500
TZNAME:EST
DTSTART:20271107T060000
END:STANDARD
END:VTIMEZONE
BEGIN:VEVENT
DTSTART;TZID=America/New_York:20260529T170000
DTEND;TZID=America/New_York:20260529T200000
DTSTAMP:20260421T093930
CREATED:20260123T190142Z
LAST-MODIFIED:20260123T190142Z
UID:19244-1780074000-1780084800@mainstreetwauchula.com
SUMMARY:Tentative Hometown Happy Hour
DESCRIPTION:DATE AND THEME ARE NOT FIRM\n\nCheck in at the Main Street Wauchula office – 107 E. Main Street to get your armband\, get your list of other participating businesses\, and enjoy your first cocktail. This is the sweetest kick-off to Summertime! Visit participating businesses\, sample unique cocktails\, enjoy food samples\, and have fun!\n*ID check required*Armband required (provided at check-in)
URL:https://mainstreetwauchula.com/event/tentative-hometown-happy-hour/
LOCATION:Downtown Wauchula
ORGANIZER;CN="Main Street Wauchula%2C Inc.":MAILTO:jnewman@cityofwauchula.com
END:VEVENT
END:VCALENDAR