BEGIN:VCALENDAR
VERSION:2.0
PRODID:-//Main Street Wauchula - ECPv6.15.20//NONSGML v1.0//EN
CALSCALE:GREGORIAN
METHOD:PUBLISH
X-WR-CALNAME:Main Street Wauchula
X-ORIGINAL-URL:https://mainstreetwauchula.com
X-WR-CALDESC:Events for Main Street Wauchula
REFRESH-INTERVAL;VALUE=DURATION:PT1H
X-Robots-Tag:noindex
X-PUBLISHED-TTL:PT1H
BEGIN:VTIMEZONE
TZID:America/New_York
BEGIN:DAYLIGHT
TZOFFSETFROM:-0500
TZOFFSETTO:-0400
TZNAME:EDT
DTSTART:20250309T070000
END:DAYLIGHT
BEGIN:STANDARD
TZOFFSETFROM:-0400
TZOFFSETTO:-0500
TZNAME:EST
DTSTART:20251102T060000
END:STANDARD
BEGIN:DAYLIGHT
TZOFFSETFROM:-0500
TZOFFSETTO:-0400
TZNAME:EDT
DTSTART:20260308T070000
END:DAYLIGHT
BEGIN:STANDARD
TZOFFSETFROM:-0400
TZOFFSETTO:-0500
TZNAME:EST
DTSTART:20261101T060000
END:STANDARD
BEGIN:DAYLIGHT
TZOFFSETFROM:-0500
TZOFFSETTO:-0400
TZNAME:EDT
DTSTART:20270314T070000
END:DAYLIGHT
BEGIN:STANDARD
TZOFFSETFROM:-0400
TZOFFSETTO:-0500
TZNAME:EST
DTSTART:20271107T060000
END:STANDARD
END:VTIMEZONE
BEGIN:VEVENT
DTSTART;TZID=America/New_York:20260316T180000
DTEND;TZID=America/New_York:20260316T200000
DTSTAMP:20260421T094308
CREATED:20250908T131452Z
LAST-MODIFIED:20250908T131452Z
UID:18862-1773684000-1773691200@mainstreetwauchula.com
SUMMARY:MSW Open Mic Night
DESCRIPTION:Join us in Heritage Park in the heart of downtown Wauchula for Open Mic Night. Every third Monday from October through March\, performers play live music only (no tracks).Bring a lawn chair\, order supper from a local restaurant like Giovanni’s Main Street Kitchen\, Terra Mexican – Restaurant\, or Bertha’s Kitchen\, and enjoy an evening under the stars.Musicians/Performers can sign up at the event.
URL:https://mainstreetwauchula.com/event/msw-open-mic-night-6/
LOCATION:Heritage Park\, 209 W. Main Street\, Wauchula\, FL\, 33873\, United States
ATTACH;FMTTYPE=image/jpeg:https://mainstreetwauchula.com/wp-content/uploads/2023/06/347593367_2107987499389911_3301725716432290630_n-e1757336717569.jpg
ORGANIZER;CN="Main Street Wauchula%2C Inc.":MAILTO:jnewman@cityofwauchula.com
END:VEVENT
BEGIN:VEVENT
DTSTART;TZID=America/New_York:20260328T090000
DTEND;TZID=America/New_York:20260328T120000
DTSTAMP:20260421T094308
CREATED:20260121T182933Z
LAST-MODIFIED:20260121T182933Z
UID:19236-1774688400-1774699200@mainstreetwauchula.com
SUMMARY:Student Business Fair
DESCRIPTION:Hardee County students\, 3rd grade – Age 20\, are invited to show off their entrepreneurial side at the 8th Annual Student Business Fair on Saturday\, March 28th\, 2026\, from 9:00 AM to Noon.\nSet up a booth to sell your creations\, get a taste of running your own business\, and have a chance to take home a cash prize!\nApplications will be opened once finalized closer to event month. This update will be posted!
URL:https://mainstreetwauchula.com/event/student-business-fair-5/
LOCATION:Downtown Wauchula
ORGANIZER;CN="Main Street Wauchula%2C Inc.":MAILTO:jnewman@cityofwauchula.com
END:VEVENT
END:VCALENDAR